BEGIN:VCALENDAR
VERSION:2.0
PRODID:-//Richard Nixon Foundation | Richard Nixon Presidential Library &amp; Museum - ECPv6.15.20//NONSGML v1.0//EN
CALSCALE:GREGORIAN
METHOD:PUBLISH
X-WR-CALNAME:Richard Nixon Foundation | Richard Nixon Presidential Library &amp; Museum
X-ORIGINAL-URL:https://www.nixonfoundation.org
X-WR-CALDESC:Events for Richard Nixon Foundation | Richard Nixon Presidential Library &amp; Museum
REFRESH-INTERVAL;VALUE=DURATION:PT1H
X-Robots-Tag:noindex
X-PUBLISHED-TTL:PT1H
BEGIN:VTIMEZONE
TZID:America/Los_Angeles
BEGIN:DAYLIGHT
TZOFFSETFROM:-0800
TZOFFSETTO:-0700
TZNAME:PDT
DTSTART:20250309T100000
END:DAYLIGHT
BEGIN:STANDARD
TZOFFSETFROM:-0700
TZOFFSETTO:-0800
TZNAME:PST
DTSTART:20251102T090000
END:STANDARD
BEGIN:DAYLIGHT
TZOFFSETFROM:-0800
TZOFFSETTO:-0700
TZNAME:PDT
DTSTART:20260308T100000
END:DAYLIGHT
BEGIN:STANDARD
TZOFFSETFROM:-0700
TZOFFSETTO:-0800
TZNAME:PST
DTSTART:20261101T090000
END:STANDARD
BEGIN:DAYLIGHT
TZOFFSETFROM:-0800
TZOFFSETTO:-0700
TZNAME:PDT
DTSTART:20270314T100000
END:DAYLIGHT
BEGIN:STANDARD
TZOFFSETFROM:-0700
TZOFFSETTO:-0800
TZNAME:PST
DTSTART:20271107T090000
END:STANDARD
END:VTIMEZONE
BEGIN:VEVENT
DTSTART;TZID=America/Los_Angeles:20260411T103000
DTEND;TZID=America/Los_Angeles:20260411T123000
DTSTAMP:20260421T035650
CREATED:20260318T223836Z
LAST-MODIFIED:20260320T000300Z
UID:72075-1775903400-1775910600@www.nixonfoundation.org
SUMMARY:Storytime with PragerU Kids and Thomas Edison
DESCRIPTION:Travel back in history with inventor Thomas Edison! Through an engaging historical reenactment\, young visitors will discover how curiosity\, creativity\, and perseverance helped Edison bring amazing ideas to life—from the incandescent light bulb to the phonograph and even early motion picture cameras. Kids will have the chance to ask questions and spark their own imaginations during this interactive experience. \n \n\nAfter Edison’s presentation\, Jill Simonian\, director of outreach and co-creator of PragerU Kids\, will host a fun and engaging story time featuring Otto’s Tales: Let’s Visit the National Inventors Hall of Fame and Otto’s Tales: The National Anthem & Pledge of Allegiance. Inspired by the popular Otto’s Tales: Let’s Visit video series\, this lively reading will take kids on an adventure through the world of great American inventors. \n\nFollowing the storytime\, guests will be invited to take their own journey through American history with a tour through the special exhibit American 250: A More Perfect Union.  \nBe one of the first 25 families to register to receive a copy of Otto’s Tales: The National Anthem & Pledge of Allegiance.
URL:https://www.nixonfoundation.org/event/storytime-with-prageru-kids-and-thomas-edison/
LOCATION:Richard Nixon Library & Museum\, 18001 Yorba Linda Blvd.\, Yorba Linda\, CA\, 92886\, United States
ATTACH;FMTTYPE=image/png:https://www.nixonfoundation.org/wp-content/uploads/2026/03/PragerUKids_Edison-1.png
END:VEVENT
END:VCALENDAR