BEGIN:VCALENDAR
VERSION:2.0
PRODID:-//Richard Nixon Foundation | Richard Nixon Presidential Library &amp; Museum - ECPv6.15.20//NONSGML v1.0//EN
CALSCALE:GREGORIAN
METHOD:PUBLISH
X-ORIGINAL-URL:https://www.nixonfoundation.org
X-WR-CALDESC:Events for Richard Nixon Foundation | Richard Nixon Presidential Library &amp; Museum
REFRESH-INTERVAL;VALUE=DURATION:PT1H
X-Robots-Tag:noindex
X-PUBLISHED-TTL:PT1H
BEGIN:VTIMEZONE
TZID:America/Los_Angeles
BEGIN:DAYLIGHT
TZOFFSETFROM:-0800
TZOFFSETTO:-0700
TZNAME:PDT
DTSTART:20240310T100000
END:DAYLIGHT
BEGIN:STANDARD
TZOFFSETFROM:-0700
TZOFFSETTO:-0800
TZNAME:PST
DTSTART:20241103T090000
END:STANDARD
BEGIN:DAYLIGHT
TZOFFSETFROM:-0800
TZOFFSETTO:-0700
TZNAME:PDT
DTSTART:20250309T100000
END:DAYLIGHT
BEGIN:STANDARD
TZOFFSETFROM:-0700
TZOFFSETTO:-0800
TZNAME:PST
DTSTART:20251102T090000
END:STANDARD
BEGIN:DAYLIGHT
TZOFFSETFROM:-0800
TZOFFSETTO:-0700
TZNAME:PDT
DTSTART:20260308T100000
END:DAYLIGHT
BEGIN:STANDARD
TZOFFSETFROM:-0700
TZOFFSETTO:-0800
TZNAME:PST
DTSTART:20261101T090000
END:STANDARD
END:VTIMEZONE
BEGIN:VEVENT
DTSTART;TZID=America/Los_Angeles:20250918T103000
DTEND;TZID=America/Los_Angeles:20250918T133000
DTSTAMP:20260419T070421
CREATED:20250807T220816Z
LAST-MODIFIED:20250812T173112Z
UID:10000035-1758191400-1758202200@www.nixonfoundation.org
SUMMARY:Policy with Purpose:  President Nixon's Drug Strategy in a 21st Century Context\, Facts From the Front Lines and Treatment Triumphs
DESCRIPTION:In 2023\, the Richard Nixon Foundation hosted a conference to mark the 50th anniversary of the DEA titled A Nation of Narcotics: Drug Control Policies from Nixon’s DEA to the Fentanyl Crisis. \nThe conference took an in-depth look at President Nixon’s often misunderstood drug control policies\, the creation of the Drug Enforcement Agency and how it evolved into the organization it is today\, and how treatment specialists and law enforcement began addressing the country’s crisis of addiction. High-profile participants included members of President Nixon’s Administration responsible for implementing his drug policies\, law enforcement officials\, and the country’s leading addiction specialists and doctors. \nThis year’s event will build on the success of the 2023 conference by applying the roadmap established by President Nixon’s effective drug policy in the context of the 21st century.
URL:https://www.nixonfoundation.org/event/policy-with-purpose-president-nixons-drug-strategy-in-a-21st-century-context-facts-from-the-front-lines-and-treatment-triumphs/
LOCATION:Richard Nixon Library & Museum\, 18001 Yorba Linda Blvd.\, Yorba Linda\, CA\, 92886\, United States
ATTACH;FMTTYPE=image/png:https://www.nixonfoundation.org/wp-content/uploads/2025/08/PolicywithPurpose.png
END:VEVENT
BEGIN:VEVENT
DTSTART;TZID=America/Los_Angeles:20250913T080000
DTEND;TZID=America/Los_Angeles:20250913T090000
DTSTAMP:20260419T070421
CREATED:20250903T171403Z
LAST-MODIFIED:20250903T171403Z
UID:10000039-1757750400-1757754000@www.nixonfoundation.org
SUMMARY:Sunrise Yoga at the Nixon Library
DESCRIPTION:Saturday\, September 13\, 2025 \n8:00 AM \nPat Nixon Garden at the Richard Nixon Presidential Library \nJoin us for an all-new yoga series at the Richard Nixon Presidential Library & Museum! \nStart your day in our beautiful Pat Nixon garden for a wonderfully zen yoga class with seasoned instructor Suzanne LaRoque. \nFollowing class\, coffee trucks will be set up in the museum parking lot for guests to enjoy.
URL:https://www.nixonfoundation.org/event/sunrise-yoga-at-the-nixon-library-4/
LOCATION:Richard Nixon Library & Museum\, 18001 Yorba Linda Blvd.\, Yorba Linda\, CA\, 92886\, United States
ATTACH;FMTTYPE=image/webp:https://www.nixonfoundation.org/wp-content/uploads/2025/06/Sunrise-Yoga.webp
END:VEVENT
BEGIN:VEVENT
DTSTART;TZID=America/Los_Angeles:20250911T110000
DTEND;TZID=America/Los_Angeles:20250911T120000
DTSTAMP:20260419T070421
CREATED:20250722T215414Z
LAST-MODIFIED:20250722T215708Z
UID:10000034-1757588400-1757592000@www.nixonfoundation.org
SUMMARY:Remembering 9/11
DESCRIPTION:We invite you to gather at the Nixon Library for a special indoor ceremony to honor the victims of September 11\, 2001\, on the 24th anniversary of the 9/11 attacks. \nFree Event Admission \nThis remembrance ceremony includes remarks by: \n–  Orange County Sheriff Don Barnes \n–  Orange County Fire Authority Chief Brian Fennessy \n–  LtCol. USMC (ret) Grant Williams \nThis program also features a special performance by the Orange County Fire Authority Pipes and Drums\, Presentation of Colors\, and performances from the Villa Park High School Band\, Orange High School Chamber Singers and the OC Master Chorale. \nWhile this is a free event\, this ticket does not include admission into the museum galleries.
URL:https://www.nixonfoundation.org/event/remembering-9-11-2025/
LOCATION:Richard Nixon Library & Museum\, 18001 Yorba Linda Blvd.\, Yorba Linda\, CA\, 92886\, United States
ATTACH;FMTTYPE=image/png:https://www.nixonfoundation.org/wp-content/uploads/2025/07/911-Event-1.png
END:VEVENT
BEGIN:VEVENT
DTSTART;TZID=America/Los_Angeles:20250910T100000
DTEND;TZID=America/Los_Angeles:20250910T110000
DTSTAMP:20260419T070421
CREATED:20250722T214424Z
LAST-MODIFIED:20250722T214856Z
UID:10000031-1757498400-1757502000@www.nixonfoundation.org
SUMMARY:U.S. Supreme Court Justice Amy Coney Barrett at the Nixon Library
DESCRIPTION:Meet U.S. Supreme Court Justice Amy Coney Barrett\, author of Listening to the Law: Reflections on the Court and the Constitution. \nIn Listening to the Law\, Justice Barrett illuminates her role and daily life as a justice\, touching on everything from her deliberation process to dealing with media scrutiny. With the warmth and clarity that made her a popular law professor\, she brings to life the making of the Constitution and lays out her approach to interpreting its text\, inviting readers to wrestle with questions of originalism and to embrace the rich heritage of the Constitution.
URL:https://www.nixonfoundation.org/event/u-s-supreme-court-justice-amy-coney-barrett-at-the-nixon-library/
LOCATION:Richard Nixon Library & Museum\, 18001 Yorba Linda Blvd.\, Yorba Linda\, CA\, 92886\, United States
ATTACH;FMTTYPE=image/png:https://www.nixonfoundation.org/wp-content/uploads/2025/07/JusticeAmyConeyBarrett.png
END:VEVENT
BEGIN:VEVENT
DTSTART;TZID=America/Los_Angeles:20250903T110000
DTEND;TZID=America/Los_Angeles:20250903T140000
DTSTAMP:20260419T070421
CREATED:20250715T175037Z
LAST-MODIFIED:20250715T175037Z
UID:10000027-1756897200-1756908000@www.nixonfoundation.org
SUMMARY:Governor Sarah Huckabee Sanders Champion of the American Dream Award Luncheon
DESCRIPTION:The Richard Nixon Foundation is pleased to present Governor Sarah Huckabee Sanders with the Champion of the American Dream Award. \nModerated by Steve Hilton\, California Gubernatorial Candidate \nWednesday\, September 3\, 2025\n11:00 AM – – Reception and Photo Opportunity\nNOON – – Luncheon Program and Award Presentation \nThe Richard Nixon Foundation’s Champion of the American Dream Award celebrates individuals who\, like President Nixon\, lift others up and leave the nation stronger than they found it. The award recognizes exceptional leaders who reflect hard work\, service to others and an unwavering commitment to the promise of America. \nGovernor Sarah Huckabee Sanders exemplifies these ideals. As the first woman elected Governor of Arkansas and through her service as White House Press Secretary\, she has consistently demonstrated courage\, clarity\, and a deep commitment to American values.
URL:https://www.nixonfoundation.org/event/governor-sarah-huckabee-sanders-champion-of-the-american-dream-award-luncheon/
LOCATION:Richard Nixon Library & Museum\, 18001 Yorba Linda Blvd.\, Yorba Linda\, CA\, 92886\, United States
ATTACH;FMTTYPE=image/webp:https://www.nixonfoundation.org/wp-content/uploads/2025/07/Governor-Sanders_400x400.webp
END:VEVENT
BEGIN:VEVENT
DTSTART;TZID=America/Los_Angeles:20250821T190000
DTEND;TZID=America/Los_Angeles:20250821T210000
DTSTAMP:20260419T070421
CREATED:20250626T183625Z
LAST-MODIFIED:20250626T183625Z
UID:10000012-1755802800-1755810000@www.nixonfoundation.org
SUMMARY:Summer Nights – Le Polynesia
DESCRIPTION:Thursday\, August 21\, 2025 \nPat Nixon Amphitheater \nLe Polynesia \nLooking for something fun to do with the family this summer? Look no further than Yorba Linda’s own Presidential Library. Once again\, the Richard Nixon Foundation is proud to bring you a special summer concert series. \nJoin us on Thursday\, August 21\, to hear from Le Polynesia: bringing the spirit of the islands to life through captivating dance\, music\, and rich cultural traditions \nNew this year! Mad Dumplings food truck will be available in the Library Parking lot from 5 PM-9:30 PM.
URL:https://www.nixonfoundation.org/event/summer-nights-le-polynesia/
LOCATION:Richard Nixon Library & Museum\, 18001 Yorba Linda Blvd.\, Yorba Linda\, CA\, 92886\, United States
CATEGORIES:Special Events
ATTACH;FMTTYPE=image/webp:https://www.nixonfoundation.org/wp-content/uploads/2025/06/Summer-Nights-Le-Polynesia.webp
END:VEVENT
BEGIN:VEVENT
DTSTART;TZID=America/Los_Angeles:20250820T190000
DTEND;TZID=America/Los_Angeles:20250820T200000
DTSTAMP:20260419T070421
CREATED:20250626T183738Z
LAST-MODIFIED:20250716T224236Z
UID:10000013-1755716400-1755720000@www.nixonfoundation.org
SUMMARY:Meet General Stanley McChrystal
DESCRIPTION:7:00 PM Book Talk and Signing \nHow to measure a life? After a career of service\, retired four-star general Stanley McChrystal had much to contemplate. He pondered his successes and failures\, his beliefs and aspirations\, and asked himself\, Who am I\, really? And more importantly\, who have I become? When I die\, how will I be measured? \nCome and hear McChrystal share his blueprint for living with purpose and integrity\, challenging us to examine not just our deeds but who we become through them. Drawing from a lifetime of experience\, he will distill profound insights on setting and meeting standards\, aligning actions with beliefs\, and offers practical advice on overcoming obstacles and pursuing self-improvement. \nTickets \nGeneral admission: $35 \nRichard Nixon Foundation Member admission: $28  \nTickets include a signed copy of On Character.
URL:https://www.nixonfoundation.org/event/meet-general-stanley-mcchrystal/
LOCATION:Richard Nixon Library & Museum\, 18001 Yorba Linda Blvd.\, Yorba Linda\, CA\, 92886\, United States
CATEGORIES:Special Events
ATTACH;FMTTYPE=image/jpeg:https://www.nixonfoundation.org/wp-content/uploads/2025/06/McChrystal_400x400.jpg
END:VEVENT
BEGIN:VEVENT
DTSTART;TZID=America/Los_Angeles:20250809T080000
DTEND;TZID=America/Los_Angeles:20250809T090000
DTSTAMP:20260419T070421
CREATED:20250626T183431Z
LAST-MODIFIED:20250626T183431Z
UID:10000011-1754726400-1754730000@www.nixonfoundation.org
SUMMARY:Sunrise Yoga at the Nixon Library
DESCRIPTION:Saturday\, August 9\, 2025 \n8:00 AM \nPat Nixon Garden at the Richard Nixon Presidential Library \nJoin us for an all-new yoga series at the Richard Nixon Presidential Library & Museum! \nStart your day in our beautiful Pat Nixon garden for a wonderfully zen yoga class with seasoned instructor Suzanne LaRoque. \nFollowing class\, coffee trucks will be set up in the museum parking lot for guests to enjoy.
URL:https://www.nixonfoundation.org/event/sunrise-yoga-at-the-nixon-library-2/
LOCATION:Richard Nixon Library & Museum\, 18001 Yorba Linda Blvd.\, Yorba Linda\, CA\, 92886\, United States
ATTACH;FMTTYPE=image/webp:https://www.nixonfoundation.org/wp-content/uploads/2025/06/Sunrise-Yoga.webp
END:VEVENT
BEGIN:VEVENT
DTSTART;TZID=America/Los_Angeles:20250807T190000
DTEND;TZID=America/Los_Angeles:20250807T210000
DTSTAMP:20260419T070421
CREATED:20250618T034730Z
LAST-MODIFIED:20250716T185719Z
UID:10000026-1754593200-1754600400@www.nixonfoundation.org
SUMMARY:Summer Nights - Blow Brass
DESCRIPTION:Thursday\, August 7\, 2025 \nPat Nixon Amphitheater \nBlow Brass \nLooking for something fun to do with the family this summer? Look no further than Yorba Linda’s own Presidential Library. Once again\, the Richard Nixon Foundation is proud to bring you a special summer concert series. \nJoin us on Thursday\, August 7 to hear from Blow Brass: turning modern hits into bass-driven grooves — where the horns get funky and the party never stops. \nNew this year! Burning Buns food truck will be available in the Library Parking lot from 5 PM-9:30 PM.
URL:https://www.nixonfoundation.org/event/summer-nights-blow-brass-2/
LOCATION:Richard Nixon Library & Museum\, 18001 Yorba Linda Blvd.\, Yorba Linda\, CA\, 92886\, United States
ATTACH;FMTTYPE=image/png:https://www.nixonfoundation.org/wp-content/uploads/2025/07/Summer-Nights-Blow-Brass.png
END:VEVENT
BEGIN:VEVENT
DTSTART;TZID=America/Los_Angeles:20250724T190000
DTEND;TZID=America/Los_Angeles:20250724T210000
DTSTAMP:20260419T070421
CREATED:20250626T183223Z
LAST-MODIFIED:20250716T191015Z
UID:10000010-1753383600-1753390800@www.nixonfoundation.org
SUMMARY:Summer Nights – Heartland Country
DESCRIPTION:Looking for something fun to do with the family this summer? Look no further than Yorba Linda’s own Presidential Library. Once again\, the Richard Nixon Foundation is proud to bring you a special summer concert series. \nJoin us on Thursday\, July 24\, to hear from Heartland Country: grit\, gravel\, and guitar strings — real country music with dust on its boots and fire in its soul. \nNew this year! Frylicious & Drizzle food trucks will be available in the Library Parking lot from 5 PM-9:30 PM.
URL:https://www.nixonfoundation.org/event/summer-nights-heartland-country/
LOCATION:Richard Nixon Library & Museum\, 18001 Yorba Linda Blvd.\, Yorba Linda\, CA\, 92886\, United States
ATTACH;FMTTYPE=image/webp:https://www.nixonfoundation.org/wp-content/uploads/2025/06/Summer-Nights-Heartland-Country.webp
END:VEVENT
BEGIN:VEVENT
DTSTART;TZID=America/Los_Angeles:20250721T190000
DTEND;TZID=America/Los_Angeles:20250721T200000
DTSTAMP:20260419T070421
CREATED:20250626T183119Z
LAST-MODIFIED:20250629T201006Z
UID:10000009-1753124400-1753128000@www.nixonfoundation.org
SUMMARY:Fight – Inside the Wildest Battle For the White House
DESCRIPTION:A Conversation with Jonathan Allen and Amie Parnes \nMonday\, July 21\, 2025   \n7:00 PM Lecture & Book Signing \nRichard Nixon Presidential Library & Museum \nAuthors of Fight – Inside the Wildest Battle For the White House \nFight provides a revelatory\, inside look at the Biden\, Harris\, and Trump camps during the 2024 battle for the White House\, arguably the most consequential contest in American history. Hear from authors Jonathan Allen and Amie Parnes as they discuss their latest book. \nJonathan Allen is a bestselling author and a senior national political reporter for NBC News. \nBestselling author Amie Parnes is a senior political correspondent covering national politics at The Hill. She previously worked as a staff writer at Politico\, and during the first Trump administration\, she was a CNN political analyst. Amie has also appeared on CBS\, NBC\, and ABC\, and she is the coauthor of four books with Jonathan Allen\, including the New York Times bestsellers HRC\, Shattered\, and FIGHT. \nEach ticket includes a copy of Fight – Inside the Wildest Battle for the White House for the book signing.
URL:https://www.nixonfoundation.org/event/fight-inside-the-wildest-battle-for-the-white-house/
LOCATION:Richard Nixon Library & Museum\, 18001 Yorba Linda Blvd.\, Yorba Linda\, CA\, 92886\, United States
ATTACH;FMTTYPE=image/webp:https://www.nixonfoundation.org/wp-content/uploads/2025/06/Fight-4.webp
END:VEVENT
BEGIN:VEVENT
DTSTART;TZID=America/Los_Angeles:20250719T080000
DTEND;TZID=America/Los_Angeles:20250719T090000
DTSTAMP:20260419T070421
CREATED:20250626T183016Z
LAST-MODIFIED:20250626T183016Z
UID:10000008-1752912000-1752915600@www.nixonfoundation.org
SUMMARY:Sunrise Yoga at the Nixon Library
DESCRIPTION:Saturday\, July 19\, 2025 \n8:00 AM \nPat Nixon Garden at the Richard Nixon Presidential Library \nJoin us for an all-new yoga series at the Richard Nixon Presidential Library & Museum! \nStart your day in our beautiful Pat Nixon garden for a wonderfully zen yoga class with seasoned instructor Suzanne LaRoque. \nFollowing class\, coffee trucks will be set up in the museum parking lot for guests to enjoy.
URL:https://www.nixonfoundation.org/event/sunrise-yoga-at-the-nixon-library/
LOCATION:Richard Nixon Library & Museum\, 18001 Yorba Linda Blvd.\, Yorba Linda\, CA\, 92886\, United States
ATTACH;FMTTYPE=image/webp:https://www.nixonfoundation.org/wp-content/uploads/2025/06/Sunrise-Yoga.webp
END:VEVENT
BEGIN:VEVENT
DTSTART;TZID=America/Los_Angeles:20250714T180000
DTEND;TZID=America/Los_Angeles:20250714T203000
DTSTAMP:20260419T070421
CREATED:20250626T182856Z
LAST-MODIFIED:20250626T182856Z
UID:10000007-1752516000-1752525000@www.nixonfoundation.org
SUMMARY:Meet Mark Joseph — REAGAN Movie Screening & Book Signing
DESCRIPTION:Meet Mark Joseph — REAGAN Movie Screening & Book Signing \nMonday\, July 14\, 2025 \nRichard Nixon Presidential Library & Museum \nFree Event \nJoin us for an engaging evening with acclaimed producer and bestselling author Mark Joseph on July 14. The event begins at 6:00 PM with an author talk followed by a special screening of REAGAN at 6:30 PM. \nMark Joseph has played a pivotal role in the success of more than 75 films\, including The Chronicles of Narnia\, Ray\, The Passion of the Christ\, and most recently\, REAGAN. He is also a co-founder and board member of the Damah Film Festival\, which celebrates spiritually themed cinema. \nHis latest book\, MAKING REAGAN\, offers a fascinating look at the decades-long journey to bring REAGAN to the big screen—from early script development and casting Dennis Quaid in the title role\, to navigating pandemic shutdowns and proving doubters wrong.
URL:https://www.nixonfoundation.org/event/meet-mark-joseph-reagan-movie-screening-book-signing/
LOCATION:Richard Nixon Library & Museum\, 18001 Yorba Linda Blvd.\, Yorba Linda\, CA\, 92886\, United States
CATEGORIES:Special Events
ATTACH;FMTTYPE=image/webp:https://www.nixonfoundation.org/wp-content/uploads/2025/06/Making-Reagan-Website.webp
END:VEVENT
BEGIN:VEVENT
DTSTART;TZID=America/Los_Angeles:20250710T190000
DTEND;TZID=America/Los_Angeles:20250710T210000
DTSTAMP:20260419T070421
CREATED:20250626T182533Z
LAST-MODIFIED:20250626T182612Z
UID:10000006-1752174000-1752181200@www.nixonfoundation.org
SUMMARY:Summer Nights – Neon Nation
DESCRIPTION:Thursday\, July 10\, 2025 \nPat Nixon Amphitheater \nNeon Nation – 80s Coverband \nLooking for something fun to do with the family this summer? Look no further than Yorba Linda’s own Presidential Library. Once again\, the Richard Nixon Foundation is proud to bring you a special summer concert series. \nJoin us on Thursday\, July 10\, to hear from Neon Nation: bringing the big hair\, bigger hooks\, and non-stop ’80s energy to every stage. \nNew this year! The Viking Truck food truck will be available in the Library Parking lot from 5 PM-9:30 PM.
URL:https://www.nixonfoundation.org/event/summer-nights-neon-nation/
LOCATION:Richard Nixon Library & Museum\, 18001 Yorba Linda Blvd.\, Yorba Linda\, CA\, 92886\, United States
CATEGORIES:Special Events
ATTACH;FMTTYPE=image/webp:https://www.nixonfoundation.org/wp-content/uploads/2025/06/Summer-Nights-Neon-Nation.webp
END:VEVENT
BEGIN:VEVENT
DTSTART;TZID=America/Los_Angeles:20250706T110000
DTEND;TZID=America/Los_Angeles:20250706T120000
DTSTAMP:20260419T070421
CREATED:20250626T182346Z
LAST-MODIFIED:20250626T182346Z
UID:10000005-1751799600-1751803200@www.nixonfoundation.org
SUMMARY:Independence Day Concert
DESCRIPTION:July 6\, 2025\, 11:00 AM \nRichard Nixon Presidential Library and Museum \nFree Event Admission \nThe Huntington Beach Concert Band will perform its spectacular repertoire of patriotic favorites in the Nixon Library’s exact replica of America’s Grand Ballroom\, more formally known as the White House East Room. \nThis does not include admission to the Museum Galleries.
URL:https://www.nixonfoundation.org/event/independence-day-concert/
LOCATION:Richard Nixon Library & Museum\, 18001 Yorba Linda Blvd.\, Yorba Linda\, CA\, 92886\, United States
CATEGORIES:Special Events
ATTACH;FMTTYPE=image/webp:https://www.nixonfoundation.org/wp-content/uploads/2025/06/Huntington-Beach-Concert-Band.webp
END:VEVENT
BEGIN:VEVENT
DTSTART;TZID=America/Los_Angeles:20250704T100000
DTEND;TZID=America/Los_Angeles:20250704T170000
DTSTAMP:20260419T070421
CREATED:20250626T182201Z
LAST-MODIFIED:20250629T200923Z
UID:10000004-1751623200-1751648400@www.nixonfoundation.org
SUMMARY:Celebrate Fourth of July
DESCRIPTION:July 4\, 2025\, 10:00 AM \nRichard Nixon Presidential Library and Museum \nFree Event Admission \nJoin us at the Richard Nixon Presidential Library for an Independence Day filled with celebration\, history\, and fun for all ages! \nFree festivities begin at 10:00 AM with a thrilling Continental Militia Skirmish. Watch Revolutionary War reenactors bring the battle for independence to life. \nThen\, step into the White House East Room to hear from President George Washington\, who will share captivating stories from the Revolutionary War and the founding of our nation. \nFrom live reenactments to inspiring presidential storytelling\, it’s a Fourth of July experience you won’t want to miss.
URL:https://www.nixonfoundation.org/event/celebrate-fourth-of-july/
LOCATION:Richard Nixon Library & Museum\, 18001 Yorba Linda Blvd.\, Yorba Linda\, CA\, 92886\, United States
CATEGORIES:Special Events
ATTACH;FMTTYPE=image/webp:https://www.nixonfoundation.org/wp-content/uploads/2025/06/Fourth-of-July.webp
END:VEVENT
BEGIN:VEVENT
DTSTART;TZID=America/Los_Angeles:20250626T190000
DTEND;TZID=America/Los_Angeles:20250626T210000
DTSTAMP:20260419T070421
CREATED:20250625T223327Z
LAST-MODIFIED:20250625T223435Z
UID:10000002-1750964400-1750971600@www.nixonfoundation.org
SUMMARY:Summer Nights – Sean Oliu & The Coastline Cowboys
DESCRIPTION:Thursday\, June 26\, 2025 \nPat Nixon Amphitheater \nSean Oliu & The Coastline Cowboys \nLooking for something fun to do with the family this summer? Look no further than Yorba Linda’s own Presidential Library. Once again\, the Richard Nixon Foundation is proud to bring you a special summer concert series. \nJoin us on Thursday\, June 26 to hear from Sean Oliu & The Coastline Cowboys: fresh country sound with real stories and a whole lot of heart. \nDoors open at 7:00PM and all concerts will begin at 7:30PM. \nNew this year! Baby’s Burgers food truck will be available in the Library Parking lot from 5 PM-9:30 PM.
URL:https://www.nixonfoundation.org/event/summer-nights-sean-oliu-the-coastline-cowboys/
LOCATION:Richard Nixon Library & Museum\, 18001 Yorba Linda Blvd.\, Yorba Linda\, CA\, 92886\, United States
CATEGORIES:Special Events
ATTACH;FMTTYPE=image/webp:https://www.nixonfoundation.org/wp-content/uploads/2025/06/Summer-Nights-Sean-Oliu.webp
END:VEVENT
END:VCALENDAR