BEGIN:VCALENDAR
VERSION:2.0
PRODID:-//Richard Nixon Foundation | Richard Nixon Presidential Library &amp; Museum - ECPv6.15.20//NONSGML v1.0//EN
CALSCALE:GREGORIAN
METHOD:PUBLISH
X-ORIGINAL-URL:https://www.nixonfoundation.org
X-WR-CALDESC:Events for Richard Nixon Foundation | Richard Nixon Presidential Library &amp; Museum
REFRESH-INTERVAL;VALUE=DURATION:PT1H
X-Robots-Tag:noindex
X-PUBLISHED-TTL:PT1H
BEGIN:VTIMEZONE
TZID:America/Los_Angeles
BEGIN:DAYLIGHT
TZOFFSETFROM:-0800
TZOFFSETTO:-0700
TZNAME:PDT
DTSTART:20240310T100000
END:DAYLIGHT
BEGIN:STANDARD
TZOFFSETFROM:-0700
TZOFFSETTO:-0800
TZNAME:PST
DTSTART:20241103T090000
END:STANDARD
BEGIN:DAYLIGHT
TZOFFSETFROM:-0800
TZOFFSETTO:-0700
TZNAME:PDT
DTSTART:20250309T100000
END:DAYLIGHT
BEGIN:STANDARD
TZOFFSETFROM:-0700
TZOFFSETTO:-0800
TZNAME:PST
DTSTART:20251102T090000
END:STANDARD
BEGIN:DAYLIGHT
TZOFFSETFROM:-0800
TZOFFSETTO:-0700
TZNAME:PDT
DTSTART:20260308T100000
END:DAYLIGHT
BEGIN:STANDARD
TZOFFSETFROM:-0700
TZOFFSETTO:-0800
TZNAME:PST
DTSTART:20261101T090000
END:STANDARD
END:VTIMEZONE
BEGIN:VEVENT
DTSTART;TZID=America/Los_Angeles:20250721T190000
DTEND;TZID=America/Los_Angeles:20250721T200000
DTSTAMP:20260425T031745
CREATED:20250626T183119Z
LAST-MODIFIED:20250629T201006Z
UID:10000009-1753124400-1753128000@www.nixonfoundation.org
SUMMARY:Fight – Inside the Wildest Battle For the White House
DESCRIPTION:A Conversation with Jonathan Allen and Amie Parnes \nMonday\, July 21\, 2025   \n7:00 PM Lecture & Book Signing \nRichard Nixon Presidential Library & Museum \nAuthors of Fight – Inside the Wildest Battle For the White House \nFight provides a revelatory\, inside look at the Biden\, Harris\, and Trump camps during the 2024 battle for the White House\, arguably the most consequential contest in American history. Hear from authors Jonathan Allen and Amie Parnes as they discuss their latest book. \nJonathan Allen is a bestselling author and a senior national political reporter for NBC News. \nBestselling author Amie Parnes is a senior political correspondent covering national politics at The Hill. She previously worked as a staff writer at Politico\, and during the first Trump administration\, she was a CNN political analyst. Amie has also appeared on CBS\, NBC\, and ABC\, and she is the coauthor of four books with Jonathan Allen\, including the New York Times bestsellers HRC\, Shattered\, and FIGHT. \nEach ticket includes a copy of Fight – Inside the Wildest Battle for the White House for the book signing.
URL:https://www.nixonfoundation.org/event/fight-inside-the-wildest-battle-for-the-white-house/
LOCATION:Richard Nixon Library & Museum\, 18001 Yorba Linda Blvd.\, Yorba Linda\, CA\, 92886\, United States
ATTACH;FMTTYPE=image/webp:https://www.nixonfoundation.org/wp-content/uploads/2025/06/Fight-4.webp
END:VEVENT
BEGIN:VEVENT
DTSTART;TZID=America/Los_Angeles:20250719T080000
DTEND;TZID=America/Los_Angeles:20250719T090000
DTSTAMP:20260425T031745
CREATED:20250626T183016Z
LAST-MODIFIED:20250626T183016Z
UID:10000008-1752912000-1752915600@www.nixonfoundation.org
SUMMARY:Sunrise Yoga at the Nixon Library
DESCRIPTION:Saturday\, July 19\, 2025 \n8:00 AM \nPat Nixon Garden at the Richard Nixon Presidential Library \nJoin us for an all-new yoga series at the Richard Nixon Presidential Library & Museum! \nStart your day in our beautiful Pat Nixon garden for a wonderfully zen yoga class with seasoned instructor Suzanne LaRoque. \nFollowing class\, coffee trucks will be set up in the museum parking lot for guests to enjoy.
URL:https://www.nixonfoundation.org/event/sunrise-yoga-at-the-nixon-library/
LOCATION:Richard Nixon Library & Museum\, 18001 Yorba Linda Blvd.\, Yorba Linda\, CA\, 92886\, United States
ATTACH;FMTTYPE=image/webp:https://www.nixonfoundation.org/wp-content/uploads/2025/06/Sunrise-Yoga.webp
END:VEVENT
BEGIN:VEVENT
DTSTART;TZID=America/Los_Angeles:20250714T180000
DTEND;TZID=America/Los_Angeles:20250714T203000
DTSTAMP:20260425T031745
CREATED:20250626T182856Z
LAST-MODIFIED:20250626T182856Z
UID:10000007-1752516000-1752525000@www.nixonfoundation.org
SUMMARY:Meet Mark Joseph — REAGAN Movie Screening & Book Signing
DESCRIPTION:Meet Mark Joseph — REAGAN Movie Screening & Book Signing \nMonday\, July 14\, 2025 \nRichard Nixon Presidential Library & Museum \nFree Event \nJoin us for an engaging evening with acclaimed producer and bestselling author Mark Joseph on July 14. The event begins at 6:00 PM with an author talk followed by a special screening of REAGAN at 6:30 PM. \nMark Joseph has played a pivotal role in the success of more than 75 films\, including The Chronicles of Narnia\, Ray\, The Passion of the Christ\, and most recently\, REAGAN. He is also a co-founder and board member of the Damah Film Festival\, which celebrates spiritually themed cinema. \nHis latest book\, MAKING REAGAN\, offers a fascinating look at the decades-long journey to bring REAGAN to the big screen—from early script development and casting Dennis Quaid in the title role\, to navigating pandemic shutdowns and proving doubters wrong.
URL:https://www.nixonfoundation.org/event/meet-mark-joseph-reagan-movie-screening-book-signing/
LOCATION:Richard Nixon Library & Museum\, 18001 Yorba Linda Blvd.\, Yorba Linda\, CA\, 92886\, United States
CATEGORIES:Special Events
ATTACH;FMTTYPE=image/webp:https://www.nixonfoundation.org/wp-content/uploads/2025/06/Making-Reagan-Website.webp
END:VEVENT
BEGIN:VEVENT
DTSTART;TZID=America/Los_Angeles:20250710T190000
DTEND;TZID=America/Los_Angeles:20250710T210000
DTSTAMP:20260425T031745
CREATED:20250626T182533Z
LAST-MODIFIED:20250626T182612Z
UID:10000006-1752174000-1752181200@www.nixonfoundation.org
SUMMARY:Summer Nights – Neon Nation
DESCRIPTION:Thursday\, July 10\, 2025 \nPat Nixon Amphitheater \nNeon Nation – 80s Coverband \nLooking for something fun to do with the family this summer? Look no further than Yorba Linda’s own Presidential Library. Once again\, the Richard Nixon Foundation is proud to bring you a special summer concert series. \nJoin us on Thursday\, July 10\, to hear from Neon Nation: bringing the big hair\, bigger hooks\, and non-stop ’80s energy to every stage. \nNew this year! The Viking Truck food truck will be available in the Library Parking lot from 5 PM-9:30 PM.
URL:https://www.nixonfoundation.org/event/summer-nights-neon-nation/
LOCATION:Richard Nixon Library & Museum\, 18001 Yorba Linda Blvd.\, Yorba Linda\, CA\, 92886\, United States
CATEGORIES:Special Events
ATTACH;FMTTYPE=image/webp:https://www.nixonfoundation.org/wp-content/uploads/2025/06/Summer-Nights-Neon-Nation.webp
END:VEVENT
BEGIN:VEVENT
DTSTART;TZID=America/Los_Angeles:20250706T110000
DTEND;TZID=America/Los_Angeles:20250706T120000
DTSTAMP:20260425T031745
CREATED:20250626T182346Z
LAST-MODIFIED:20250626T182346Z
UID:10000005-1751799600-1751803200@www.nixonfoundation.org
SUMMARY:Independence Day Concert
DESCRIPTION:July 6\, 2025\, 11:00 AM \nRichard Nixon Presidential Library and Museum \nFree Event Admission \nThe Huntington Beach Concert Band will perform its spectacular repertoire of patriotic favorites in the Nixon Library’s exact replica of America’s Grand Ballroom\, more formally known as the White House East Room. \nThis does not include admission to the Museum Galleries.
URL:https://www.nixonfoundation.org/event/independence-day-concert/
LOCATION:Richard Nixon Library & Museum\, 18001 Yorba Linda Blvd.\, Yorba Linda\, CA\, 92886\, United States
CATEGORIES:Special Events
ATTACH;FMTTYPE=image/webp:https://www.nixonfoundation.org/wp-content/uploads/2025/06/Huntington-Beach-Concert-Band.webp
END:VEVENT
BEGIN:VEVENT
DTSTART;TZID=America/Los_Angeles:20250704T100000
DTEND;TZID=America/Los_Angeles:20250704T170000
DTSTAMP:20260425T031745
CREATED:20250626T182201Z
LAST-MODIFIED:20250629T200923Z
UID:10000004-1751623200-1751648400@www.nixonfoundation.org
SUMMARY:Celebrate Fourth of July
DESCRIPTION:July 4\, 2025\, 10:00 AM \nRichard Nixon Presidential Library and Museum \nFree Event Admission \nJoin us at the Richard Nixon Presidential Library for an Independence Day filled with celebration\, history\, and fun for all ages! \nFree festivities begin at 10:00 AM with a thrilling Continental Militia Skirmish. Watch Revolutionary War reenactors bring the battle for independence to life. \nThen\, step into the White House East Room to hear from President George Washington\, who will share captivating stories from the Revolutionary War and the founding of our nation. \nFrom live reenactments to inspiring presidential storytelling\, it’s a Fourth of July experience you won’t want to miss.
URL:https://www.nixonfoundation.org/event/celebrate-fourth-of-july/
LOCATION:Richard Nixon Library & Museum\, 18001 Yorba Linda Blvd.\, Yorba Linda\, CA\, 92886\, United States
CATEGORIES:Special Events
ATTACH;FMTTYPE=image/webp:https://www.nixonfoundation.org/wp-content/uploads/2025/06/Fourth-of-July.webp
END:VEVENT
BEGIN:VEVENT
DTSTART;TZID=America/Los_Angeles:20250626T190000
DTEND;TZID=America/Los_Angeles:20250626T210000
DTSTAMP:20260425T031745
CREATED:20250625T223327Z
LAST-MODIFIED:20250625T223435Z
UID:10000002-1750964400-1750971600@www.nixonfoundation.org
SUMMARY:Summer Nights – Sean Oliu & The Coastline Cowboys
DESCRIPTION:Thursday\, June 26\, 2025 \nPat Nixon Amphitheater \nSean Oliu & The Coastline Cowboys \nLooking for something fun to do with the family this summer? Look no further than Yorba Linda’s own Presidential Library. Once again\, the Richard Nixon Foundation is proud to bring you a special summer concert series. \nJoin us on Thursday\, June 26 to hear from Sean Oliu & The Coastline Cowboys: fresh country sound with real stories and a whole lot of heart. \nDoors open at 7:00PM and all concerts will begin at 7:30PM. \nNew this year! Baby’s Burgers food truck will be available in the Library Parking lot from 5 PM-9:30 PM.
URL:https://www.nixonfoundation.org/event/summer-nights-sean-oliu-the-coastline-cowboys/
LOCATION:Richard Nixon Library & Museum\, 18001 Yorba Linda Blvd.\, Yorba Linda\, CA\, 92886\, United States
CATEGORIES:Special Events
ATTACH;FMTTYPE=image/webp:https://www.nixonfoundation.org/wp-content/uploads/2025/06/Summer-Nights-Sean-Oliu.webp
END:VEVENT
END:VCALENDAR